BEGIN:VCALENDAR
VERSION:2.0
PRODID:-//www.lincolnasiancenter.org//NONSGML kigkonsult.se iCalcreator 2.3
 0.10//
CALSCALE:GREGORIAN
METHOD:PUBLISH
UID:aa78ccb1-11c7-41fe-b44b-67456a61d93d
X-WR-CALDESC:
X-WR-RELCALID:a04490de76e5c37905ffb198ed3ef3a3
X-WR-TIMEZONE:America/Chicago
BEGIN:VTIMEZONE
TZID:America/Chicago
BEGIN:STANDARD
TZNAME:CST
DTSTART:20191103T020000
TZOFFSETFROM:-0500
TZOFFSETTO:-0600
RDATE:20201101T020000
END:STANDARD
BEGIN:DAYLIGHT
TZNAME:CDT
DTSTART:20190310T020000
TZOFFSETFROM:-0600
TZOFFSETTO:-0500
RDATE:20200308T020000
RDATE:20210314T020000
END:DAYLIGHT
END:VTIMEZONE
BEGIN:VEVENT
UID:08d4eb0b-842a-49fc-9628-88bd1ffdcf03
DTSTAMP:20260424T103327Z
DESCRIPTION:
DTSTART;TZID=America/Chicago:20200227T100000
DTEND;TZID=America/Chicago:20200227T120000
LOCATION:
SUMMARY:Citizenship Class
END:VEVENT
END:VCALENDAR
