BEGIN:VCALENDAR
VERSION:2.0
PRODID:-//www.lincolnasiancenter.org//NONSGML kigkonsult.se iCalcreator 2.3
 0.10//
CALSCALE:GREGORIAN
METHOD:PUBLISH
UID:3f87826b-ceb8-42d2-9c8a-ecf9323948f0
X-WR-CALDESC:
X-WR-RELCALID:29bda5148399eeb46096d7dcc0014dd0
X-WR-TIMEZONE:America/Chicago
BEGIN:VTIMEZONE
TZID:America/Chicago
BEGIN:STANDARD
TZNAME:CST
DTSTART:20201101T020000
TZOFFSETFROM:-0500
TZOFFSETTO:-0600
RDATE:20211107T020000
END:STANDARD
BEGIN:DAYLIGHT
TZNAME:CDT
DTSTART:20200308T020000
TZOFFSETFROM:-0600
TZOFFSETTO:-0500
RDATE:20210314T020000
RDATE:20220313T020000
END:DAYLIGHT
END:VTIMEZONE
BEGIN:VEVENT
UID:eec0d695-36e4-4333-baae-8ddc1a02a4cd
DTSTAMP:20260424T151217Z
DESCRIPTION:
DTSTART;TZID=America/Chicago:20201104T100000
DTEND;TZID=America/Chicago:20201104T120000
LOCATION:
SUMMARY:USCIS Citizenship Class
END:VEVENT
END:VCALENDAR
