BEGIN:VCALENDAR
VERSION:2.0
PRODID:-//www.lincolnasiancenter.org//NONSGML kigkonsult.se iCalcreator 2.3
 0.10//
CALSCALE:GREGORIAN
METHOD:PUBLISH
UID:71871031-36fd-4629-963c-ffe1def00b77
X-WR-CALDESC:
X-WR-RELCALID:3dfedb257c8bbf044bf1ca46ed828b08
X-WR-TIMEZONE:America/Chicago
BEGIN:VTIMEZONE
TZID:America/Chicago
BEGIN:STANDARD
TZNAME:CST
DTSTART:20211107T020000
TZOFFSETFROM:-0500
TZOFFSETTO:-0600
RDATE:20221106T020000
RDATE:20231105T020000
END:STANDARD
BEGIN:DAYLIGHT
TZNAME:CDT
DTSTART:20220313T020000
TZOFFSETFROM:-0600
TZOFFSETTO:-0500
RDATE:20230312T020000
END:DAYLIGHT
END:VTIMEZONE
BEGIN:VEVENT
UID:3043b5ed-b907-457e-bf36-75ef5570509f
DTSTAMP:20260424T084550Z
DESCRIPTION:
DTSTART;TZID=America/Chicago:20220718T093000
DTEND;TZID=America/Chicago:20220718T120000
LOCATION:
SUMMARY:Refugee Senior Program
END:VEVENT
END:VCALENDAR
