BEGIN:VCALENDAR
VERSION:2.0
PRODID:-//www.lincolnasiancenter.org//NONSGML kigkonsult.se iCalcreator 2.3
 0.10//
CALSCALE:GREGORIAN
METHOD:PUBLISH
UID:9e0739d1-9ca4-4c24-b6eb-cdbdbc7c72d9
X-WR-CALDESC:
X-WR-RELCALID:9239043613481c381a1b13500094fdac
X-WR-TIMEZONE:America/Chicago
BEGIN:VTIMEZONE
TZID:America/Chicago
BEGIN:STANDARD
TZNAME:CST
DTSTART:20221106T020000
TZOFFSETFROM:-0500
TZOFFSETTO:-0600
RDATE:20231105T020000
END:STANDARD
BEGIN:DAYLIGHT
TZNAME:CDT
DTSTART:20220313T020000
TZOFFSETFROM:-0600
TZOFFSETTO:-0500
RDATE:20230312T020000
RDATE:20240310T020000
END:DAYLIGHT
END:VTIMEZONE
BEGIN:VEVENT
UID:0663a48a-3e07-44cd-bbbb-92dd9dff07bc
DTSTAMP:20260424T042832Z
DESCRIPTION:
DTSTART;TZID=America/Chicago:20221214T090000
DTEND;TZID=America/Chicago:20221214T130000
LOCATION:
SUMMARY:Aging Partner/ Vietnamese Senior Program
END:VEVENT
END:VCALENDAR
